{"text_format":"1","workbook":"xlsx","n_sheets":15,"sheets":["直結給水方式に切り換えた場合の費用削減効果算出ソフト","年間削減電気料金算出図(インバータ→直圧直結)","年間削減電気料金算出図(非インバータ→直圧直結)","年間削減電気料金算出図(高置水槽→直圧直結)","年間削減電気料金算出図(型式等不明→直圧直結)","年間削減電気料金算出図(インバータ→増圧直結)","年間削減電気料金算出図(非インバータ→増圧直結)","年間削減電気料金算出図(高置水槽→増圧直結)","年間削減電気料金算出図(型式等不明→増圧直結)","年間削減清掃点検費用算出および算出図","年間削減電気料金算出","削減効果算出資料レイアウト","電力量料金登録","給水方式マスタ","ポンプの型式等マスタ"],"not_rendered":{"charts":9,"images":0,"macros":1,"external_links":0,"defined_names":1,"comments":0,"pivot_tables":0},"unopened":[],"bounds":{"document_bytes":16777216,"sheet_cells":100000,"rows_first":2000,"rows_last":500,"rows_between":2000,"halvings":0,"cell_chars":16384,"cell_head_chars":4096},"cells_cut":0,"cells_raw":0,"read":"whole","date_system":"1900"}

{"sheet":"直結給水方式に切り換えた場合の費用削減効果算出ソフト","index":0,"n_rows":0,"n_cols":0,"rows_kept":0,"cut":false,"hidden":false,"merged":[]}

{"sheet":"年間削減電気料金算出図(インバータ→直圧直結)","index":1,"n_rows":48,"n_cols":3,"rows_kept":48,"cut":false,"hidden":true,"merged":[]}
["年間削減電気料金算出図(インバータ→直圧直結)"]
[]
["貯水槽容量","年間使用水量","年間削減電気料金"]
[2.7397260273972603E-3,{"$f":" A4*365","v":1},{"$f":"  ROUND((-0.178*LN(A4)+1.05)*B4*電力量料金登録!B3, 0)","v":55}]
[0.1,{"$f":"A5*365","v":36.5},{"$f":"  ROUND((-0.178*LN(A5)+1.05)*B5*電力量料金登録!B3, 0)","v":1385}]
[0.5,{"$f":"A6*365","v":182.5},{"$f":"  ROUND((-0.178*LN(A6)+1.05)*B6*電力量料金登録!B3, 0)","v":5568}]
[1,365,{"$f":"  ROUND((-0.178*LN(A7)+1.05)*B7*電力量料金登録!B3, 0)","v":9965}]
[2,730,{"$f":"  ROUND((-0.178*LN(A8)+1.05)*B8*電力量料金登録!B3, 0)","v":17587}]
[3,1095,{"$f":"  ROUND((-0.178*LN(A9)+1.05)*B9*電力量料金登録!B3, 0)","v":24326}]
[4,1460,{"$f":"  ROUND((-0.178*LN(A10)+1.05)*B10*電力量料金登録!B3, 0)","v":30491}]
[5,1825,{"$f":"  ROUND((-0.178*LN(A11)+1.05)*B11*電力量料金登録!B3, 0)","v":36229}]
[6,2190,{"$f":"  ROUND((-0.178*LN(A12)+1.05)*B12*電力量料金登録!B3, 0)","v":41627}]
[7,2555,{"$f":"  ROUND((-0.178*LN(A13)+1.05)*B13*電力量料金登録!B3, 0)","v":46742}]
[8,2920,{"$f":"  ROUND((-0.178*LN(A14)+1.05)*B14*電力量料金登録!B3, 0)","v":51615}]
[9,3285,{"$f":"  ROUND((-0.178*LN(A15)+1.05)*B15*電力量料金登録!B3, 0)","v":56276}]
[10,3650,{"$f":"  ROUND((-0.178*LN(A16)+1.05)*B16*電力量料金登録!B3, 0)","v":60749}]
[11,4015,{"$f":"  ROUND((-0.178*LN(A17)+1.05)*B17*電力量料金登録!B3, 0)","v":65053}]
[12,4380,{"$f":"  ROUND((-0.178*LN(A18)+1.05)*B18*電力量料金登録!B3, 0)","v":69203}]
[13,4745,{"$f":"  ROUND((-0.178*LN(A19)+1.05)*B19*電力量料金登録!B3, 0)","v":73213}]
[14,5110,{"$f":"  ROUND((-0.178*LN(A20)+1.05)*B20*電力量料金登録!B3, 0)","v":77092}]
[15,5475,{"$f":"  ROUND((-0.178*LN(A21)+1.05)*B21*電力量料金登録!B3, 0)","v":80850}]
[16,5840,{"$f":"  ROUND((-0.178*LN(A22)+1.05)*B22*電力量料金登録!B3, 0)","v":84496}]
[17,6205,{"$f":"  ROUND((-0.178*LN(A23)+1.05)*B23*電力量料金登録!B3, 0)","v":88036}]
[18,6570,{"$f":"  ROUND((-0.178*LN(A24)+1.05)*B24*電力量料金登録!B3, 0)","v":91476}]
[19,6935,{"$f":"  ROUND((-0.178*LN(A25)+1.05)*B25*電力量料金登録!B3, 0)","v":94823}]
[20,7300,{"$f":"  ROUND((-0.178*LN(A26)+1.05)*B26*電力量料金登録!B3, 0)","v":98081}]
[21,7665,{"$f":"  ROUND((-0.178*LN(A27)+1.05)*B27*電力量料金登録!B3, 0)","v":101254}]
[22,8030,{"$f":"  ROUND((-0.178*LN(A28)+1.05)*B28*電力量料金登録!B3, 0)","v":104347}]
[23,8395,{"$f":"  ROUND((-0.178*LN(A29)+1.05)*B29*電力量料金登録!B3, 0)","v":107363}]
[24,8760,{"$f":"  ROUND((-0.178*LN(A30)+1.05)*B30*電力量料金登録!B3, 0)","v":110306}]
[25,9125,{"$f":"  ROUND((-0.178*LN(A31)+1.05)*B31*電力量料金登録!B3, 0)","v":113178}]
[26,9490,{"$f":"  ROUND((-0.178*LN(A32)+1.05)*B32*電力量料金登録!B3, 0)","v":115982}]
[27,9855,{"$f":"  ROUND((-0.178*LN(A33)+1.05)*B33*電力量料金登録!B3, 0)","v":118722}]
[28,10220,{"$f":"  ROUND((-0.178*LN(A34)+1.05)*B34*電力量料金登録!B3, 0)","v":121399}]
[29,10585,{"$f":"  ROUND((-0.178*LN(A35)+1.05)*B35*電力量料金登録!B3, 0)","v":124015}]
[30,10950,{"$f":"  ROUND((-0.178*LN(A36)+1.05)*B36*電力量料金登録!B3, 0)","v":126574}]
[31,11315,{"$f":"  ROUND((-0.178*LN(A37)+1.05)*B37*電力量料金登録!B3, 0)","v":129076}]
[32,11680,{"$f":"  ROUND((-0.178*LN(A38)+1.05)*B38*電力量料金登録!B3, 0)","v":131524}]
[33,12045,{"$f":"  ROUND((-0.178*LN(A39)+1.05)*B39*電力量料金登録!B3, 0)","v":133918}]
[34,12410,{"$f":"  ROUND((-0.178*LN(A40)+1.05)*B40*電力量料金登録!B3, 0)","v":136262}]
[35,12775,{"$f":"  ROUND((-0.178*LN(A41)+1.05)*B41*電力量料金登録!B3, 0)","v":138556}]
[36,13140,{"$f":"  ROUND((-0.178*LN(A42)+1.05)*B42*電力量料金登録!B3, 0)","v":140801}]
[37,13505,{"$f":"  ROUND((-0.178*LN(A43)+1.05)*B43*電力量料金登録!B3, 0)","v":143000}]
[38,13870,{"$f":"  ROUND((-0.178*LN(A44)+1.05)*B44*電力量料金登録!B3, 0)","v":145153}]
[39,14235,{"$f":"  ROUND((-0.178*LN(A45)+1.05)*B45*電力量料金登録!B3, 0)","v":147262}]
[40,14600,{"$f":"  ROUND((-0.178*LN(A46)+1.05)*B46*電力量料金登録!B3, 0)","v":149327}]
[41,14965,{"$f":"  ROUND((-0.178*LN(A47)+1.05)*B47*電力量料金登録!B3, 0)","v":151350}]
[42,15330,{"$f":"  ROUND((-0.178*LN(A48)+1.05)*B48*電力量料金登録!B3, 0)","v":153332}]

{"sheet":"年間削減電気料金算出図(非インバータ→直圧直結)","index":2,"n_rows":48,"n_cols":3,"rows_kept":48,"cut":false,"hidden":true,"merged":[]}
["年間削減電気料金算出図(非インバータ→直圧直結)"]
[]
["貯水槽容量","年間使用水量","年間削減電気料金"]
[2.7397260273972603E-3,{"$f":" A4*365","v":1},{"$f":"  ROUND((-0.289*LN(A4)+1.86)*B4*電力量料金登録!B3, 0)","v":93}]
[0.1,{"$f":"A5*365","v":36.5},{"$f":"  ROUND((-0.289*LN(A5)+1.86)*B5*電力量料金登録!B3, 0)","v":2397}]
[0.5,{"$f":"A6*365","v":182.5},{"$f":"  ROUND((-0.289*LN(A6)+1.86)*B6*電力量料金登録!B3, 0)","v":9776}]
[1,365,{"$f":"  ROUND((-0.289*LN(A7)+1.86)*B7*電力量料金登録!B3, 0)","v":17651}]
[2,730,{"$f":"  ROUND((-0.289*LN(A8)+1.86)*B8*電力量料金登録!B3, 0)","v":31501}]
[3,1095,{"$f":"  ROUND((-0.289*LN(A9)+1.86)*B9*電力量料金登録!B3, 0)","v":43915}]
[4,1460,{"$f":"  ROUND((-0.289*LN(A10)+1.86)*B10*電力量料金登録!B3, 0)","v":55397}]
[5,1825,{"$f":"  ROUND((-0.289*LN(A11)+1.86)*B11*電力量料金登録!B3, 0)","v":66187}]
[6,2190,{"$f":"  ROUND((-0.289*LN(A12)+1.86)*B12*電力量料金登録!B3, 0)","v":76424}]
[7,2555,{"$f":"  ROUND((-0.289*LN(A13)+1.86)*B13*電力量料金登録!B3, 0)","v":86202}]
[8,2920,{"$f":"  ROUND((-0.289*LN(A14)+1.86)*B14*電力量料金登録!B3, 0)","v":95586}]
[9,3285,{"$f":"  ROUND((-0.289*LN(A15)+1.86)*B15*電力量料金登録!B3, 0)","v":104627}]
[10,3650,{"$f":"  ROUND((-0.289*LN(A16)+1.86)*B16*電力量料金登録!B3, 0)","v":113363}]
[11,4015,{"$f":"  ROUND((-0.289*LN(A17)+1.86)*B17*電力量料金登録!B3, 0)","v":121824}]
[12,4380,{"$f":"  ROUND((-0.289*LN(A18)+1.86)*B18*電力量料金登録!B3, 0)","v":130035}]
[13,4745,{"$f":"  ROUND((-0.289*LN(A19)+1.86)*B19*電力量料金登録!B3, 0)","v":138018}]
[14,5110,{"$f":"  ROUND((-0.289*LN(A20)+1.86)*B20*電力量料金登録!B3, 0)","v":145789}]
[15,5475,{"$f":"  ROUND((-0.289*LN(A21)+1.86)*B21*電力量料金登録!B3, 0)","v":153364}]
[16,5840,{"$f":"  ROUND((-0.289*LN(A22)+1.86)*B22*電力量料金登録!B3, 0)","v":160756}]
[17,6205,{"$f":"  ROUND((-0.289*LN(A23)+1.86)*B23*電力量料金登録!B3, 0)","v":167977}]
[18,6570,{"$f":"  ROUND((-0.289*LN(A24)+1.86)*B24*電力量料金登録!B3, 0)","v":175036}]
[19,6935,{"$f":"  ROUND((-0.289*LN(A25)+1.86)*B25*電力量料金登録!B3, 0)","v":181943}]
[20,7300,{"$f":"  ROUND((-0.289*LN(A26)+1.86)*B26*電力量料金登録!B3, 0)","v":188705}]
[21,7665,{"$f":"  ROUND((-0.289*LN(A27)+1.86)*B27*電力量料金登録!B3, 0)","v":195331}]
[22,8030,{"$f":"  ROUND((-0.289*LN(A28)+1.86)*B28*電力量料金登録!B3, 0)","v":201825}]
[23,8395,{"$f":"  ROUND((-0.289*LN(A29)+1.86)*B29*電力量料金登録!B3, 0)","v":208195}]
[24,8760,{"$f":"  ROUND((-0.289*LN(A30)+1.86)*B30*電力量料金登録!B3, 0)","v":214446}]
[25,9125,{"$f":"  ROUND((-0.289*LN(A31)+1.86)*B31*電力量料金登録!B3, 0)","v":220582}]
[26,9490,{"$f":"  ROUND((-0.289*LN(A32)+1.86)*B32*電力量料金登録!B3, 0)","v":226609}]
[27,9855,{"$f":"  ROUND((-0.289*LN(A33)+1.86)*B33*電力量料金登録!B3, 0)","v":232530}]
[28,10220,{"$f":"  ROUND((-0.289*LN(A34)+1.86)*B34*電力量料金登録!B3, 0)","v":238349}]
[29,10585,{"$f":"  ROUND((-0.289*LN(A35)+1.86)*B35*電力量料金登録!B3, 0)","v":244070}]
[30,10950,{"$f":"  ROUND((-0.289*LN(A36)+1.86)*B36*電力量料金登録!B3, 0)","v":249697}]
[31,11315,{"$f":"  ROUND((-0.289*LN(A37)+1.86)*B37*電力量料金登録!B3, 0)","v":255233}]
[32,11680,{"$f":"  ROUND((-0.289*LN(A38)+1.86)*B38*電力量料金登録!B3, 0)","v":260680}]
[33,12045,{"$f":"  ROUND((-0.289*LN(A39)+1.86)*B39*電力量料金登録!B3, 0)","v":266041}]
[34,12410,{"$f":"  ROUND((-0.289*LN(A40)+1.86)*B40*電力量料金登録!B3, 0)","v":271319}]
[35,12775,{"$f":"  ROUND((-0.289*LN(A41)+1.86)*B41*電力量料金登録!B3, 0)","v":276516}]
[36,13140,{"$f":"  ROUND((-0.289*LN(A42)+1.86)*B42*電力量料金登録!B3, 0)","v":281635}]
[37,13505,{"$f":"  ROUND((-0.289*LN(A43)+1.86)*B43*電力量料金登録!B3, 0)","v":286678}]
[38,13870,{"$f":"  ROUND((-0.289*LN(A44)+1.86)*B44*電力量料金登録!B3, 0)","v":291647}]
[39,14235,{"$f":"  ROUND((-0.289*LN(A45)+1.86)*B45*電力量料金登録!B3, 0)","v":296543}]
[40,14600,{"$f":"  ROUND((-0.289*LN(A46)+1.86)*B46*電力量料金登録!B3, 0)","v":301370}]
[41,14965,{"$f":"  ROUND((-0.289*LN(A47)+1.86)*B47*電力量料金登録!B3, 0)","v":306127}]
[42,15330,{"$f":"  ROUND((-0.289*LN(A48)+1.86)*B48*電力量料金登録!B3, 0)","v":310818}]

{"sheet":"年間削減電気料金算出図(高置水槽→直圧直結)","index":3,"n_rows":48,"n_cols":3,"rows_kept":48,"cut":false,"hidden":true,"merged":[]}
["年間削減電気料金算出図(高置水槽→直圧直結)"]
[]
["貯水槽容量","年間使用水量","年間削減電気料金"]
[2.7397260273972603E-3,{"$f":" A4*365","v":1},{"$f":"  ROUND((0.0012*A4+0.261)*B4*電力量料金登録!B3, 0)","v":7}]
[0.1,{"$f":"A5*365","v":36.5},{"$f":"  ROUND((0.0012*A5+0.261)*B5*電力量料金登録!B3, 0)","v":248}]
[0.5,{"$f":"A6*365","v":182.5},{"$f":"  ROUND((0.0012*A6+0.261)*B6*電力量料金登録!B3, 0)","v":1241}]
[1,365,{"$f":"  ROUND((0.0012*A7+0.261)*B7*電力量料金登録!B3, 0)","v":2488}]
[2,730,{"$f":"  ROUND((0.0012*A8+0.261)*B8*電力量料金登録!B3, 0)","v":4999}]
[3,1095,{"$f":"  ROUND((0.0012*A9+0.261)*B9*電力量料金登録!B3, 0)","v":7533}]
[4,1460,{"$f":"  ROUND((0.0012*A10+0.261)*B10*電力量料金登録!B3, 0)","v":10090}]
[5,1825,{"$f":"  ROUND((0.0012*A11+0.261)*B11*電力量料金登録!B3, 0)","v":12669}]
[6,2190,{"$f":"  ROUND((0.0012*A12+0.261)*B12*電力量料金登録!B3, 0)","v":15271}]
[7,2555,{"$f":"  ROUND((0.0012*A13+0.261)*B13*電力量料金登録!B3, 0)","v":17896}]
[8,2920,{"$f":"  ROUND((0.0012*A14+0.261)*B14*電力量料金登録!B3, 0)","v":20544}]
[9,3285,{"$f":"  ROUND((0.0012*A15+0.261)*B15*電力量料金登録!B3, 0)","v":23214}]
[10,3650,{"$f":"  ROUND((0.0012*A16+0.261)*B16*電力量料金登録!B3, 0)","v":25908}]
[11,4015,{"$f":"  ROUND((0.0012*A17+0.261)*B17*電力量料金登録!B3, 0)","v":28624}]
[12,4380,{"$f":"  ROUND((0.0012*A18+0.261)*B18*電力量料金登録!B3, 0)","v":31363}]
[13,4745,{"$f":"  ROUND((0.0012*A19+0.261)*B19*電力量料金登録!B3, 0)","v":34124}]
[14,5110,{"$f":"  ROUND((0.0012*A20+0.261)*B20*電力量料金登録!B3, 0)","v":36909}]
[15,5475,{"$f":"  ROUND((0.0012*A21+0.261)*B21*電力量料金登録!B3, 0)","v":39716}]
[16,5840,{"$f":"  ROUND((0.0012*A22+0.261)*B22*電力量料金登録!B3, 0)","v":42546}]
[17,6205,{"$f":"  ROUND((0.0012*A23+0.261)*B23*電力量料金登録!B3, 0)","v":45398}]
[18,6570,{"$f":"  ROUND((0.0012*A24+0.261)*B24*電力量料金登録!B3, 0)","v":48274}]
[19,6935,{"$f":"  ROUND((0.0012*A25+0.261)*B25*電力量料金登録!B3, 0)","v":51172}]
[20,7300,{"$f":"  ROUND((0.0012*A26+0.261)*B26*電力量料金登録!B3, 0)","v":54093}]
[21,7665,{"$f":"  ROUND((0.0012*A27+0.261)*B27*電力量料金登録!B3, 0)","v":57037}]
[22,8030,{"$f":"  ROUND((0.0012*A28+0.261)*B28*電力量料金登録!B3, 0)","v":60003}]
[23,8395,{"$f":"  ROUND((0.0012*A29+0.261)*B29*電力量料金登録!B3, 0)","v":62993}]
[24,8760,{"$f":"  ROUND((0.0012*A30+0.261)*B30*電力量料金登録!B3, 0)","v":66005}]
[25,9125,{"$f":"  ROUND((0.0012*A31+0.261)*B31*電力量料金登録!B3, 0)","v":69040}]
[26,9490,{"$f":"  ROUND((0.0012*A32+0.261)*B32*電力量料金登録!B3, 0)","v":72097}]
[27,9855,{"$f":"  ROUND((0.0012*A33+0.261)*B33*電力量料金登録!B3, 0)","v":75178}]
[28,10220,{"$f":"  ROUND((0.0012*A34+0.261)*B34*電力量料金登録!B3, 0)","v":78281}]
[29,10585,{"$f":"  ROUND((0.0012*A35+0.261)*B35*電力量料金登録!B3, 0)","v":81407}]
[30,10950,{"$f":"  ROUND((0.0012*A36+0.261)*B36*電力量料金登録!B3, 0)","v":84556}]
[31,11315,{"$f":"  ROUND((0.0012*A37+0.261)*B37*電力量料金登録!B3, 0)","v":87727}]
[32,11680,{"$f":"  ROUND((0.0012*A38+0.261)*B38*電力量料金登録!B3, 0)","v":90922}]
[33,12045,{"$f":"  ROUND((0.0012*A39+0.261)*B39*電力量料金登録!B3, 0)","v":94139}]
[34,12410,{"$f":"  ROUND((0.0012*A40+0.261)*B40*電力量料金登録!B3, 0)","v":97379}]
[35,12775,{"$f":"  ROUND((0.0012*A41+0.261)*B41*電力量料金登録!B3, 0)","v":100641}]
[36,13140,{"$f":"  ROUND((0.0012*A42+0.261)*B42*電力量料金登録!B3, 0)","v":103927}]
[37,13505,{"$f":"  ROUND((0.0012*A43+0.261)*B43*電力量料金登録!B3, 0)","v":107235}]
[38,13870,{"$f":"  ROUND((0.0012*A44+0.261)*B44*電力量料金登録!B3, 0)","v":110566}]
[39,14235,{"$f":"  ROUND((0.0012*A45+0.261)*B45*電力量料金登録!B3, 0)","v":113920}]
[40,14600,{"$f":"  ROUND((0.0012*A46+0.261)*B46*電力量料金登録!B3, 0)","v":117296}]
[41,14965,{"$f":"  ROUND((0.0012*A47+0.261)*B47*電力量料金登録!B3, 0)","v":120696}]
[42,15330,{"$f":"  ROUND((0.0012*A48+0.261)*B48*電力量料金登録!B3, 0)","v":124118}]

{"sheet":"年間削減電気料金算出図(型式等不明→直圧直結)","index":4,"n_rows":48,"n_cols":3,"rows_kept":48,"cut":false,"hidden":true,"merged":[]}
["年間削減電気料金算出図(型式等不明→直圧直結)"]
[]
["貯水槽容量","年間使用水量","年間削減電気料金"]
[2.7397260273972603E-3,{"$f":" A4*365","v":1},{"$f":"  ROUND((0.000398*A4-0.17*LN(A4)+1.07)*B4*電力量料金登録!B3, 0)","v":54}]
[0.1,{"$f":"A5*365","v":36.5},{"$f":"  ROUND((0.000398*A5-0.17*LN(A5)+1.07)*B5*電力量料金登録!B3, 0)","v":1387}]
[0.5,{"$f":"A6*365","v":182.5},{"$f":"  ROUND((0.000398*A6-0.17*LN(A6)+1.07)*B6*電力量料金登録!B3, 0)","v":5637}]
[1,365,{"$f":"  ROUND((0.000398*A7-0.17*LN(A7)+1.07)*B7*電力量料金登録!B3, 0)","v":10158}]
[2,730,{"$f":"  ROUND((0.000398*A8-0.17*LN(A8)+1.07)*B8*電力量料金登録!B3, 0)","v":18087}]
[3,1095,{"$f":"  ROUND((0.000398*A9-0.17*LN(A9)+1.07)*B9*電力量料金登録!B3, 0)","v":25180}]
[4,1460,{"$f":"  ROUND((0.000398*A10-0.17*LN(A10)+1.07)*B10*電力量料金登録!B3, 0)","v":31732}]
[5,1825,{"$f":"  ROUND((0.000398*A11-0.17*LN(A11)+1.07)*B11*電力量料金登録!B3, 0)","v":37883}]
[6,2190,{"$f":"  ROUND((0.000398*A12-0.17*LN(A12)+1.07)*B12*電力量料金登録!B3, 0)","v":43718}]
[7,2555,{"$f":"  ROUND((0.000398*A13-0.17*LN(A13)+1.07)*B13*電力量料金登録!B3, 0)","v":49290}]
[8,2920,{"$f":"  ROUND((0.000398*A14-0.17*LN(A14)+1.07)*B14*電力量料金登録!B3, 0)","v":54638}]
[9,3285,{"$f":"  ROUND((0.000398*A15-0.17*LN(A15)+1.07)*B15*電力量料金登録!B3, 0)","v":59792}]
[10,3650,{"$f":"  ROUND((0.000398*A16-0.17*LN(A16)+1.07)*B16*電力量料金登録!B3, 0)","v":64773}]
[11,4015,{"$f":"  ROUND((0.000398*A17-0.17*LN(A17)+1.07)*B17*電力量料金登録!B3, 0)","v":69601}]
[12,4380,{"$f":"  ROUND((0.000398*A18-0.17*LN(A18)+1.07)*B18*電力量料金登録!B3, 0)","v":74289}]
[13,4745,{"$f":"  ROUND((0.000398*A19-0.17*LN(A19)+1.07)*B19*電力量料金登録!B3, 0)","v":78850}]
[14,5110,{"$f":"  ROUND((0.000398*A20-0.17*LN(A20)+1.07)*B20*電力量料金登録!B3, 0)","v":83294}]
[15,5475,{"$f":"  ROUND((0.000398*A21-0.17*LN(A21)+1.07)*B21*電力量料金登録!B3, 0)","v":87631}]
[16,5840,{"$f":"  ROUND((0.000398*A22-0.17*LN(A22)+1.07)*B22*電力量料金登録!B3, 0)","v":91867}]
[17,6205,{"$f":"  ROUND((0.000398*A23-0.17*LN(A23)+1.07)*B23*電力量料金登録!B3, 0)","v":96011}]
[18,6570,{"$f":"  ROUND((0.000398*A24-0.17*LN(A24)+1.07)*B24*電力量料金登録!B3, 0)","v":100066}]
[19,6935,{"$f":"  ROUND((0.000398*A25-0.17*LN(A25)+1.07)*B25*電力量料金登録!B3, 0)","v":104040}]
[20,7300,{"$f":"  ROUND((0.000398*A26-0.17*LN(A26)+1.07)*B26*電力量料金登録!B3, 0)","v":107937}]
[21,7665,{"$f":"  ROUND((0.000398*A27-0.17*LN(A27)+1.07)*B27*電力量料金登録!B3, 0)","v":111760}]
[22,8030,{"$f":"  ROUND((0.000398*A28-0.17*LN(A28)+1.07)*B28*電力量料金登録!B3, 0)","v":115514}]
[23,8395,{"$f":"  ROUND((0.000398*A29-0.17*LN(A29)+1.07)*B29*電力量料金登録!B3, 0)","v":119202}]
[24,8760,{"$f":"  ROUND((0.000398*A30-0.17*LN(A30)+1.07)*B30*電力量料金登録!B3, 0)","v":122827}]
[25,9125,{"$f":"  ROUND((0.000398*A31-0.17*LN(A31)+1.07)*B31*電力量料金登録!B3, 0)","v":126393}]
[26,9490,{"$f":"  ROUND((0.000398*A32-0.17*LN(A32)+1.07)*B32*電力量料金登録!B3, 0)","v":129902}]
[27,9855,{"$f":"  ROUND((0.000398*A33-0.17*LN(A33)+1.07)*B33*電力量料金登録!B3, 0)","v":133356}]
[28,10220,{"$f":"  ROUND((0.000398*A34-0.17*LN(A34)+1.07)*B34*電力量料金登録!B3, 0)","v":136758}]
[29,10585,{"$f":"  ROUND((0.000398*A35-0.17*LN(A35)+1.07)*B35*電力量料金登録!B3, 0)","v":140110}]
[30,10950,{"$f":"  ROUND((0.000398*A36-0.17*LN(A36)+1.07)*B36*電力量料金登録!B3, 0)","v":143414}]
[31,11315,{"$f":"  ROUND((0.000398*A37-0.17*LN(A37)+1.07)*B37*電力量料金登録!B3, 0)","v":146671}]
[32,11680,{"$f":"  ROUND((0.000398*A38-0.17*LN(A38)+1.07)*B38*電力量料金登録!B3, 0)","v":149885}]
[33,12045,{"$f":"  ROUND((0.000398*A39-0.17*LN(A39)+1.07)*B39*電力量料金登録!B3, 0)","v":153055}]
[34,12410,{"$f":"  ROUND((0.000398*A40-0.17*LN(A40)+1.07)*B40*電力量料金登録!B3, 0)","v":156184}]
[35,12775,{"$f":"  ROUND((0.000398*A41-0.17*LN(A41)+1.07)*B41*電力量料金登録!B3, 0)","v":159273}]
[36,13140,{"$f":"  ROUND((0.000398*A42-0.17*LN(A42)+1.07)*B42*電力量料金登録!B3, 0)","v":162323}]
[37,13505,{"$f":"  ROUND((0.000398*A43-0.17*LN(A43)+1.07)*B43*電力量料金登録!B3, 0)","v":165337}]
[38,13870,{"$f":"  ROUND((0.000398*A44-0.17*LN(A44)+1.07)*B44*電力量料金登録!B3, 0)","v":168314}]
[39,14235,{"$f":"  ROUND((0.000398*A45-0.17*LN(A45)+1.07)*B45*電力量料金登録!B3, 0)","v":171256}]
[40,14600,{"$f":"  ROUND((0.000398*A46-0.17*LN(A46)+1.07)*B46*電力量料金登録!B3, 0)","v":174164}]
[41,14965,{"$f":"  ROUND((0.000398*A47-0.17*LN(A47)+1.07)*B47*電力量料金登録!B3, 0)","v":177040}]
[42,15330,{"$f":"  ROUND((0.000398*A48-0.17*LN(A48)+1.07)*B48*電力量料金登録!B3, 0)","v":179884}]

{"sheet":"年間削減電気料金算出図(インバータ→増圧直結)","index":5,"n_rows":48,"n_cols":3,"rows_kept":48,"cut":false,"hidden":true,"merged":[]}
["年間削減電気料金算出図(インバータ→増圧直結)"]
[]
["貯水槽容量","年間使用水量","年間削減電気料金"]
[2.7397260273972603E-3,{"$f":" A4*365","v":1},{"$f":"  ROUND( (-0.26*LN(A4)+1.09)*B4*電力量料金登録!B3, 0)","v":68}]
[0.1,{"$f":"A5*365","v":36.5},{"$f":"  ROUND( (-0.26*LN(A5)+1.09)*B5*電力量料金登録!B3, 0)","v":1603}]
[0.5,{"$f":"A6*365","v":182.5},{"$f":"  ROUND( (-0.26*LN(A6)+1.09)*B6*電力量料金登録!B3, 0)","v":6027}]
[1,365,{"$f":"  ROUND( (-0.26*LN(A7)+1.09)*B7*電力量料金登録!B3, 0)","v":10344}]
[2,730,{"$f":"  ROUND( (-0.26*LN(A8)+1.09)*B8*電力量料金登録!B3, 0)","v":17268}]
[3,1095,{"$f":"  ROUND( (-0.26*LN(A9)+1.09)*B9*電力量料金登録!B3, 0)","v":22900}]
[4,1460,{"$f":"  ROUND( (-0.26*LN(A10)+1.09)*B10*電力量料金登録!B3, 0)","v":27694}]
[5,1825,{"$f":"  ROUND( (-0.26*LN(A11)+1.09)*B11*電力量料金登録!B3, 0)","v":31865}]
[6,2190,{"$f":"  ROUND( (-0.26*LN(A12)+1.09)*B12*電力量料金登録!B3, 0)","v":35539}]
[7,2555,{"$f":"  ROUND( (-0.26*LN(A13)+1.09)*B13*電力量料金登録!B3, 0)","v":38799}]
[8,2920,{"$f":"  ROUND( (-0.26*LN(A14)+1.09)*B14*電力量料金登録!B3, 0)","v":41706}]
[9,3285,{"$f":"  ROUND( (-0.26*LN(A15)+1.09)*B15*電力量料金登録!B3, 0)","v":44304}]
[10,3650,{"$f":"  ROUND( (-0.26*LN(A16)+1.09)*B16*電力量料金登録!B3, 0)","v":46627}]
[11,4015,{"$f":"  ROUND( (-0.26*LN(A17)+1.09)*B17*電力量料金登録!B3, 0)","v":48703}]
[12,4380,{"$f":"  ROUND( (-0.26*LN(A18)+1.09)*B18*電力量料金登録!B3, 0)","v":50554}]
[13,4745,{"$f":"  ROUND( (-0.26*LN(A19)+1.09)*B19*電力量料金登録!B3, 0)","v":52199}]
[14,5110,{"$f":"  ROUND( (-0.26*LN(A20)+1.09)*B20*電力量料金登録!B3, 0)","v":53655}]
[15,5475,{"$f":"  ROUND( (-0.26*LN(A21)+1.09)*B21*電力量料金登録!B3, 0)","v":54934}]
[16,5840,{"$f":"  ROUND( (-0.26*LN(A22)+1.09)*B22*電力量料金登録!B3, 0)","v":56048}]
[17,6205,{"$f":"  ROUND( (-0.26*LN(A23)+1.09)*B23*電力量料金登録!B3, 0)","v":57008}]
[18,6570,{"$f":"  ROUND( (-0.26*LN(A24)+1.09)*B24*電力量料金登録!B3, 0)","v":57823}]
[19,6935,{"$f":"  ROUND( (-0.26*LN(A25)+1.09)*B25*電力量料金登録!B3, 0)","v":58501}]
[20,7300,{"$f":"  ROUND( (-0.26*LN(A26)+1.09)*B26*電力量料金登録!B3, 0)","v":59049}]
[21,7665,{"$f":"  ROUND( (-0.26*LN(A27)+1.09)*B27*電力量料金登録!B3, 0)","v":59473}]
[22,8030,{"$f":"  ROUND( (-0.26*LN(A28)+1.09)*B28*電力量料金登録!B3, 0)","v":59780}]
[23,8395,{"$f":"  ROUND( (-0.26*LN(A29)+1.09)*B29*電力量料金登録!B3, 0)","v":59974}]
[24,8760,{"$f":"  ROUND( (-0.26*LN(A30)+1.09)*B30*電力量料金登録!B3, 0)","v":60062}]
[25,9125,{"$f":"  ROUND( (-0.26*LN(A31)+1.09)*B31*電力量料金登録!B3, 0)","v":60046}]
[26,9490,{"$f":"  ROUND( (-0.26*LN(A32)+1.09)*B32*電力量料金登録!B3, 0)","v":59932}]
[27,9855,{"$f":"  ROUND( (-0.26*LN(A33)+1.09)*B33*電力量料金登録!B3, 0)","v":59723}]
[28,10220,{"$f":"  ROUND( (-0.26*LN(A34)+1.09)*B34*電力量料金登録!B3, 0)","v":59422}]
[29,10585,{"$f":"  ROUND( (-0.26*LN(A35)+1.09)*B35*電力量料金登録!B3, 0)","v":59033}]
[30,10950,{"$f":"  ROUND( (-0.26*LN(A36)+1.09)*B36*電力量料金登録!B3, 0)","v":58560}]
[31,11315,{"$f":"  ROUND( (-0.26*LN(A37)+1.09)*B37*電力量料金登録!B3, 0)","v":58003}]
[32,11680,{"$f":"  ROUND( (-0.26*LN(A38)+1.09)*B38*電力量料金登録!B3, 0)","v":57368}]
[33,12045,{"$f":"  ROUND( (-0.26*LN(A39)+1.09)*B39*電力量料金登録!B3, 0)","v":56655}]
[34,12410,{"$f":"  ROUND( (-0.26*LN(A40)+1.09)*B40*電力量料金登録!B3, 0)","v":55867}]
[35,12775,{"$f":"  ROUND( (-0.26*LN(A41)+1.09)*B41*電力量料金登録!B3, 0)","v":55007}]
[36,13140,{"$f":"  ROUND( (-0.26*LN(A42)+1.09)*B42*電力量料金登録!B3, 0)","v":54077}]
[37,13505,{"$f":"  ROUND( (-0.26*LN(A43)+1.09)*B43*電力量料金登録!B3, 0)","v":53077}]
[38,13870,{"$f":"  ROUND( (-0.26*LN(A44)+1.09)*B44*電力量料金登録!B3, 0)","v":52011}]
[39,14235,{"$f":"  ROUND( (-0.26*LN(A45)+1.09)*B45*電力量料金登録!B3, 0)","v":50880}]
[40,14600,{"$f":"  ROUND( (-0.26*LN(A46)+1.09)*B46*電力量料金登録!B3, 0)","v":49686}]
[41,14965,{"$f":"  ROUND( (-0.26*LN(A47)+1.09)*B47*電力量料金登録!B3, 0)","v":48431}]
[42,15330,{"$f":"  ROUND( (-0.26*LN(A48)+1.09)*B48*電力量料金登録!B3, 0)","v":47115}]

{"sheet":"年間削減電気料金算出図(非インバータ→増圧直結)","index":6,"n_rows":48,"n_cols":3,"rows_kept":48,"cut":false,"hidden":true,"merged":[]}
["年間削減電気料金算出図(非インバータ→増圧直結)"]
[]
["貯水槽容量","年間使用水量","年間削減電気料金"]
[2.7397260273972603E-3,{"$f":" A4*365","v":1},{"$f":"  ROUND((-0.37*LN(A4)+1.9)*B4*電力量料金登録!B3, 0)","v":106}]
[0.1,{"$f":"A5*365","v":36.5},{"$f":"  ROUND((-0.37*LN(A5)+1.9)*B5*電力量料金登録!B3, 0)","v":2612}]
[0.5,{"$f":"A6*365","v":182.5},{"$f":"  ROUND((-0.37*LN(A6)+1.9)*B6*電力量料金登録!B3, 0)","v":10232}]
[1,365,{"$f":"  ROUND((-0.37*LN(A7)+1.9)*B7*電力量料金登録!B3, 0)","v":18031}]
[2,730,{"$f":"  ROUND((-0.37*LN(A8)+1.9)*B8*電力量料金登録!B3, 0)","v":31194}]
[3,1095,{"$f":"  ROUND((-0.37*LN(A9)+1.9)*B9*電力量料金登録!B3, 0)","v":42520}]
[4,1460,{"$f":"  ROUND((-0.37*LN(A10)+1.9)*B10*電力量料金登録!B3, 0)","v":52653}]
[5,1825,{"$f":"  ROUND((-0.37*LN(A11)+1.9)*B11*電力量料金登録!B3, 0)","v":61899}]
[6,2190,{"$f":"  ROUND((-0.37*LN(A12)+1.9)*B12*電力量料金登録!B3, 0)","v":70438}]
[7,2555,{"$f":"  ROUND((-0.37*LN(A13)+1.9)*B13*電力量料金登録!B3, 0)","v":78388}]
[8,2920,{"$f":"  ROUND((-0.37*LN(A14)+1.9)*B14*電力量料金登録!B3, 0)","v":85836}]
[9,3285,{"$f":"  ROUND((-0.37*LN(A15)+1.9)*B15*電力量料金登録!B3, 0)","v":92843}]
[10,3650,{"$f":"  ROUND((-0.37*LN(A16)+1.9)*B16*電力量料金登録!B3, 0)","v":99459}]
[11,4015,{"$f":"  ROUND((-0.37*LN(A17)+1.9)*B17*電力量料金登録!B3, 0)","v":105724}]
[12,4380,{"$f":"  ROUND((-0.37*LN(A18)+1.9)*B18*電力量料金登録!B3, 0)","v":111669}]
[13,4745,{"$f":"  ROUND((-0.37*LN(A19)+1.9)*B19*電力量料金登録!B3, 0)","v":117321}]
[14,5110,{"$f":"  ROUND((-0.37*LN(A20)+1.9)*B20*電力量料金登録!B3, 0)","v":122703}]
[15,5475,{"$f":"  ROUND((-0.37*LN(A21)+1.9)*B21*電力量料金登録!B3, 0)","v":127833}]
[16,5840,{"$f":"  ROUND((-0.37*LN(A22)+1.9)*B22*電力量料金登録!B3, 0)","v":132730}]
[17,6205,{"$f":"  ROUND((-0.37*LN(A23)+1.9)*B23*電力量料金登録!B3, 0)","v":137407}]
[18,6570,{"$f":"  ROUND((-0.37*LN(A24)+1.9)*B24*電力量料金登録!B3, 0)","v":141877}]
[19,6935,{"$f":"  ROUND((-0.37*LN(A25)+1.9)*B25*電力量料金登録!B3, 0)","v":146152}]
[20,7300,{"$f":"  ROUND((-0.37*LN(A26)+1.9)*B26*電力量料金登録!B3, 0)","v":150242}]
[21,7665,{"$f":"  ROUND((-0.37*LN(A27)+1.9)*B27*電力量料金登録!B3, 0)","v":154156}]
[22,8030,{"$f":"  ROUND((-0.37*LN(A28)+1.9)*B28*電力量料金登録!B3, 0)","v":157903}]
[23,8395,{"$f":"  ROUND((-0.37*LN(A29)+1.9)*B29*電力量料金登録!B3, 0)","v":161491}]
[24,8760,{"$f":"  ROUND((-0.37*LN(A30)+1.9)*B30*電力量料金登録!B3, 0)","v":164926}]
[25,9125,{"$f":"  ROUND((-0.37*LN(A31)+1.9)*B31*電力量料金登録!B3, 0)","v":168214}]
[26,9490,{"$f":"  ROUND((-0.37*LN(A32)+1.9)*B32*電力量料金登録!B3, 0)","v":171362}]
[27,9855,{"$f":"  ROUND((-0.37*LN(A33)+1.9)*B33*電力量料金登録!B3, 0)","v":174375}]
[28,10220,{"$f":"  ROUND((-0.37*LN(A34)+1.9)*B34*電力量料金登録!B3, 0)","v":177258}]
[29,10585,{"$f":"  ROUND((-0.37*LN(A35)+1.9)*B35*電力量料金登録!B3, 0)","v":180015}]
[30,10950,{"$f":"  ROUND((-0.37*LN(A36)+1.9)*B36*電力量料金登録!B3, 0)","v":182651}]
[31,11315,{"$f":"  ROUND((-0.37*LN(A37)+1.9)*B37*電力量料金登録!B3, 0)","v":185170}]
[32,11680,{"$f":"  ROUND((-0.37*LN(A38)+1.9)*B38*電力量料金登録!B3, 0)","v":187576}]
[33,12045,{"$f":"  ROUND((-0.37*LN(A39)+1.9)*B39*電力量料金登録!B3, 0)","v":189873}]
[34,12410,{"$f":"  ROUND((-0.37*LN(A40)+1.9)*B40*電力量料金登録!B3, 0)","v":192062}]
[35,12775,{"$f":"  ROUND((-0.37*LN(A41)+1.9)*B41*電力量料金登録!B3, 0)","v":194149}]
[36,13140,{"$f":"  ROUND((-0.37*LN(A42)+1.9)*B42*電力量料金登録!B3, 0)","v":196135}]
[37,13505,{"$f":"  ROUND((-0.37*LN(A43)+1.9)*B43*電力量料金登録!B3, 0)","v":198023}]
[38,13870,{"$f":"  ROUND((-0.37*LN(A44)+1.9)*B44*電力量料金登録!B3, 0)","v":199817}]
[39,14235,{"$f":"  ROUND((-0.37*LN(A45)+1.9)*B45*電力量料金登録!B3, 0)","v":201518}]
[40,14600,{"$f":"  ROUND((-0.37*LN(A46)+1.9)*B46*電力量料金登録!B3, 0)","v":203130}]
[41,14965,{"$f":"  ROUND((-0.37*LN(A47)+1.9)*B47*電力量料金登録!B3, 0)","v":204653}]
[42,15330,{"$f":"  ROUND((-0.37*LN(A48)+1.9)*B48*電力量料金登録!B3, 0)","v":206091}]

{"sheet":"年間削減電気料金算出図(高置水槽→増圧直結)","index":7,"n_rows":48,"n_cols":3,"rows_kept":48,"cut":false,"hidden":true,"merged":[]}
["年間削減電気料金算出図(高置水槽→増圧直結)"]
[]
["貯水槽容量","年間使用水量","年間削減電気料金"]
[2.7397260273972603E-3,{"$f":" A4*365","v":1},{"$f":"  ROUND((0.0012*A4-0.0813*LN(A4)+0.303)*B4*電力量料金登録!B3, 0)","v":20}]
[0.1,{"$f":"A5*365","v":36.5},{"$f":"  ROUND((0.0012*A5-0.0813*LN(A5)+0.303)*B5*電力量料金登録!B3, 0)","v":465}]
[0.5,{"$f":"A6*365","v":182.5},{"$f":"  ROUND((0.0012*A6-0.0813*LN(A6)+0.303)*B6*電力量料金登録!B3, 0)","v":1708}]
[1,365,{"$f":"  ROUND((0.0012*A7-0.0813*LN(A7)+0.303)*B7*電力量料金登録!B3, 0)","v":2887}]
[2,730,{"$f":"  ROUND((0.0012*A8-0.0813*LN(A8)+0.303)*B8*電力量料金登録!B3, 0)","v":4727}]
[3,1095,{"$f":"  ROUND((0.0012*A9-0.0813*LN(A9)+0.303)*B9*電力量料金登録!B3, 0)","v":6186}]
[4,1460,{"$f":"  ROUND((0.0012*A10-0.0813*LN(A10)+0.303)*B10*電力量料金登録!B3, 0)","v":7406}]
[5,1825,{"$f":"  ROUND((0.0012*A11-0.0813*LN(A11)+0.303)*B11*電力量料金登録!B3, 0)","v":8453}]
[6,2190,{"$f":"  ROUND((0.0012*A12-0.0813*LN(A12)+0.303)*B12*電力量料金登録!B3, 0)","v":9368}]
[7,2555,{"$f":"  ROUND((0.0012*A13-0.0813*LN(A13)+0.303)*B13*電力量料金登録!B3, 0)","v":10177}]
[8,2920,{"$f":"  ROUND((0.0012*A14-0.0813*LN(A14)+0.303)*B14*電力量料金登録!B3, 0)","v":10898}]
[9,3285,{"$f":"  ROUND((0.0012*A15-0.0813*LN(A15)+0.303)*B15*電力量料金登録!B3, 0)","v":11544}]
[10,3650,{"$f":"  ROUND((0.0012*A16-0.0813*LN(A16)+0.303)*B16*電力量料金登録!B3, 0)","v":12128}]
[11,4015,{"$f":"  ROUND((0.0012*A17-0.0813*LN(A17)+0.303)*B17*電力量料金登録!B3, 0)","v":12657}]
[12,4380,{"$f":"  ROUND((0.0012*A18-0.0813*LN(A18)+0.303)*B18*電力量料金登録!B3, 0)","v":13139}]
[13,4745,{"$f":"  ROUND((0.0012*A19-0.0813*LN(A19)+0.303)*B19*電力量料金登録!B3, 0)","v":13579}]
[14,5110,{"$f":"  ROUND((0.0012*A20-0.0813*LN(A20)+0.303)*B20*電力量料金登録!B3, 0)","v":13983}]
[15,5475,{"$f":"  ROUND((0.0012*A21-0.0813*LN(A21)+0.303)*B21*電力量料金登録!B3, 0)","v":14354}]
[16,5840,{"$f":"  ROUND((0.0012*A22-0.0813*LN(A22)+0.303)*B22*電力量料金登録!B3, 0)","v":14696}]
[17,6205,{"$f":"  ROUND((0.0012*A23-0.0813*LN(A23)+0.303)*B23*電力量料金登録!B3, 0)","v":15013}]
[18,6570,{"$f":"  ROUND((0.0012*A24-0.0813*LN(A24)+0.303)*B24*電力量料金登録!B3, 0)","v":15308}]
[19,6935,{"$f":"  ROUND((0.0012*A25-0.0813*LN(A25)+0.303)*B25*電力量料金登録!B3, 0)","v":15582}]
[20,7300,{"$f":"  ROUND((0.0012*A26-0.0813*LN(A26)+0.303)*B26*電力量料金登録!B3, 0)","v":15838}]
[21,7665,{"$f":"  ROUND((0.0012*A27-0.0813*LN(A27)+0.303)*B27*電力量料金登録!B3, 0)","v":16079}]
[22,8030,{"$f":"  ROUND((0.0012*A28-0.0813*LN(A28)+0.303)*B28*電力量料金登録!B3, 0)","v":16305}]
[23,8395,{"$f":"  ROUND((0.0012*A29-0.0813*LN(A29)+0.303)*B29*電力量料金登録!B3, 0)","v":16520}]
[24,8760,{"$f":"  ROUND((0.0012*A30-0.0813*LN(A30)+0.303)*B30*電力量料金登録!B3, 0)","v":16723}]
[25,9125,{"$f":"  ROUND((0.0012*A31-0.0813*LN(A31)+0.303)*B31*電力量料金登録!B3, 0)","v":16917}]
[26,9490,{"$f":"  ROUND((0.0012*A32-0.0813*LN(A32)+0.303)*B32*電力量料金登録!B3, 0)","v":17103}]
[27,9855,{"$f":"  ROUND((0.0012*A33-0.0813*LN(A33)+0.303)*B33*電力量料金登録!B3, 0)","v":17282}]
[28,10220,{"$f":"  ROUND((0.0012*A34-0.0813*LN(A34)+0.303)*B34*電力量料金登録!B3, 0)","v":17456}]
[29,10585,{"$f":"  ROUND((0.0012*A35-0.0813*LN(A35)+0.303)*B35*電力量料金登録!B3, 0)","v":17624}]
[30,10950,{"$f":"  ROUND((0.0012*A36-0.0813*LN(A36)+0.303)*B36*電力量料金登録!B3, 0)","v":17789}]
[31,11315,{"$f":"  ROUND((0.0012*A37-0.0813*LN(A37)+0.303)*B37*電力量料金登録!B3, 0)","v":17951}]
[32,11680,{"$f":"  ROUND((0.0012*A38-0.0813*LN(A38)+0.303)*B38*電力量料金登録!B3, 0)","v":18110}]
[33,12045,{"$f":"  ROUND((0.0012*A39-0.0813*LN(A39)+0.303)*B39*電力量料金登録!B3, 0)","v":18268}]
[34,12410,{"$f":"  ROUND((0.0012*A40-0.0813*LN(A40)+0.303)*B40*電力量料金登録!B3, 0)","v":18426}]
[35,12775,{"$f":"  ROUND((0.0012*A41-0.0813*LN(A41)+0.303)*B41*電力量料金登録!B3, 0)","v":18584}]
[36,13140,{"$f":"  ROUND((0.0012*A42-0.0813*LN(A42)+0.303)*B42*電力量料金登録!B3, 0)","v":18742}]
[37,13505,{"$f":"  ROUND((0.0012*A43-0.0813*LN(A43)+0.303)*B43*電力量料金登録!B3, 0)","v":18902}]
[38,13870,{"$f":"  ROUND((0.0012*A44-0.0813*LN(A44)+0.303)*B44*電力量料金登録!B3, 0)","v":19064}]
[39,14235,{"$f":"  ROUND((0.0012*A45-0.0813*LN(A45)+0.303)*B45*電力量料金登録!B3, 0)","v":19228}]
[40,14600,{"$f":"  ROUND((0.0012*A46-0.0813*LN(A46)+0.303)*B46*電力量料金登録!B3, 0)","v":19395}]
[41,14965,{"$f":"  ROUND((0.0012*A47-0.0813*LN(A47)+0.303)*B47*電力量料金登録!B3, 0)","v":19566}]
[42,15330,{"$f":"  ROUND((0.0012*A48-0.0813*LN(A48)+0.303)*B48*電力量料金登録!B3, 0)","v":19741}]

{"sheet":"年間削減電気料金算出図(型式等不明→増圧直結)","index":8,"n_rows":48,"n_cols":3,"rows_kept":48,"cut":false,"hidden":true,"merged":[]}
["年間削減電気料金算出図(型式等不明→増圧直結)"]
[]
["貯水槽容量","年間使用水量","年間削減電気料金"]
[2.7397260273972603E-3,{"$f":" A4*365","v":1},{"$f":"  ROUND((0.000398*A4-0.251*LN(A4)+1.11)*B4*電力量料金登録!B3, 0)","v":67}]
[0.1,{"$f":"A5*365","v":36.5},{"$f":"  ROUND((0.000398*A5-0.251*LN(A5)+1.11)*B5*電力量料金登録!B3, 0)","v":1602}]
[0.5,{"$f":"A6*365","v":182.5},{"$f":"  ROUND((0.000398*A6-0.251*LN(A6)+1.11)*B6*電力量料金登録!B3, 0)","v":6093}]
[1,365,{"$f":"  ROUND((0.000398*A7-0.251*LN(A7)+1.11)*B7*電力量料金登録!B3, 0)","v":10538}]
[2,730,{"$f":"  ROUND((0.000398*A8-0.251*LN(A8)+1.11)*B8*電力量料金登録!B3, 0)","v":17781}]
[3,1095,{"$f":"  ROUND((0.000398*A9-0.251*LN(A9)+1.11)*B9*電力量料金登録!B3, 0)","v":23785}]
[4,1460,{"$f":"  ROUND((0.000398*A10-0.251*LN(A10)+1.11)*B10*電力量料金登録!B3, 0)","v":28987}]
[5,1825,{"$f":"  ROUND((0.000398*A11-0.251*LN(A11)+1.11)*B11*電力量料金登録!B3, 0)","v":33596}]
[6,2190,{"$f":"  ROUND((0.000398*A12-0.251*LN(A12)+1.11)*B12*電力量料金登録!B3, 0)","v":37732}]
[7,2555,{"$f":"  ROUND((0.000398*A13-0.251*LN(A13)+1.11)*B13*電力量料金登録!B3, 0)","v":41476}]
[8,2920,{"$f":"  ROUND((0.000398*A14-0.251*LN(A14)+1.11)*B14*電力量料金登録!B3, 0)","v":44887}]
[9,3285,{"$f":"  ROUND((0.000398*A15-0.251*LN(A15)+1.11)*B15*電力量料金登録!B3, 0)","v":48007}]
[10,3650,{"$f":"  ROUND((0.000398*A16-0.251*LN(A16)+1.11)*B16*電力量料金登録!B3, 0)","v":50869}]
[11,4015,{"$f":"  ROUND((0.000398*A17-0.251*LN(A17)+1.11)*B17*電力量料金登録!B3, 0)","v":53501}]
[12,4380,{"$f":"  ROUND((0.000398*A18-0.251*LN(A18)+1.11)*B18*電力量料金登録!B3, 0)","v":55922}]
[13,4745,{"$f":"  ROUND((0.000398*A19-0.251*LN(A19)+1.11)*B19*電力量料金登録!B3, 0)","v":58153}]
[14,5110,{"$f":"  ROUND((0.000398*A20-0.251*LN(A20)+1.11)*B20*電力量料金登録!B3, 0)","v":60208}]
[15,5475,{"$f":"  ROUND((0.000398*A21-0.251*LN(A21)+1.11)*B21*電力量料金登録!B3, 0)","v":62100}]
[16,5840,{"$f":"  ROUND((0.000398*A22-0.251*LN(A22)+1.11)*B22*電力量料金登録!B3, 0)","v":63841}]
[17,6205,{"$f":"  ROUND((0.000398*A23-0.251*LN(A23)+1.11)*B23*電力量料金登録!B3, 0)","v":65440}]
[18,6570,{"$f":"  ROUND((0.000398*A24-0.251*LN(A24)+1.11)*B24*電力量料金登録!B3, 0)","v":66907}]
[19,6935,{"$f":"  ROUND((0.000398*A25-0.251*LN(A25)+1.11)*B25*電力量料金登録!B3, 0)","v":68249}]
[20,7300,{"$f":"  ROUND((0.000398*A26-0.251*LN(A26)+1.11)*B26*電力量料金登録!B3, 0)","v":69473}]
[21,7665,{"$f":"  ROUND((0.000398*A27-0.251*LN(A27)+1.11)*B27*電力量料金登録!B3, 0)","v":70585}]
[22,8030,{"$f":"  ROUND((0.000398*A28-0.251*LN(A28)+1.11)*B28*電力量料金登録!B3, 0)","v":71592}]
[23,8395,{"$f":"  ROUND((0.000398*A29-0.251*LN(A29)+1.11)*B29*電力量料金登録!B3, 0)","v":72497}]
[24,8760,{"$f":"  ROUND((0.000398*A30-0.251*LN(A30)+1.11)*B30*電力量料金登録!B3, 0)","v":73307}]
[25,9125,{"$f":"  ROUND((0.000398*A31-0.251*LN(A31)+1.11)*B31*電力量料金登録!B3, 0)","v":74025}]
[26,9490,{"$f":"  ROUND((0.000398*A32-0.251*LN(A32)+1.11)*B32*電力量料金登録!B3, 0)","v":74655}]
[27,9855,{"$f":"  ROUND((0.000398*A33-0.251*LN(A33)+1.11)*B33*電力量料金登録!B3, 0)","v":75201}]
[28,10220,{"$f":"  ROUND((0.000398*A34-0.251*LN(A34)+1.11)*B34*電力量料金登録!B3, 0)","v":75667}]
[29,10585,{"$f":"  ROUND((0.000398*A35-0.251*LN(A35)+1.11)*B35*電力量料金登録!B3, 0)","v":76054}]
[30,10950,{"$f":"  ROUND((0.000398*A36-0.251*LN(A36)+1.11)*B36*電力量料金登録!B3, 0)","v":76368}]
[31,11315,{"$f":"  ROUND((0.000398*A37-0.251*LN(A37)+1.11)*B37*電力量料金登録!B3, 0)","v":76609}]
[32,11680,{"$f":"  ROUND((0.000398*A38-0.251*LN(A38)+1.11)*B38*電力量料金登録!B3, 0)","v":76781}]
[33,12045,{"$f":"  ROUND((0.000398*A39-0.251*LN(A39)+1.11)*B39*電力量料金登録!B3, 0)","v":76887}]
[34,12410,{"$f":"  ROUND((0.000398*A40-0.251*LN(A40)+1.11)*B40*電力量料金登録!B3, 0)","v":76927}]
[35,12775,{"$f":"  ROUND((0.000398*A41-0.251*LN(A41)+1.11)*B41*電力量料金登録!B3, 0)","v":76905}]
[36,13140,{"$f":"  ROUND((0.000398*A42-0.251*LN(A42)+1.11)*B42*電力量料金登録!B3, 0)","v":76823}]
[37,13505,{"$f":"  ROUND((0.000398*A43-0.251*LN(A43)+1.11)*B43*電力量料金登録!B3, 0)","v":76682}]
[38,13870,{"$f":"  ROUND((0.000398*A44-0.251*LN(A44)+1.11)*B44*電力量料金登録!B3, 0)","v":76484}]
[39,14235,{"$f":"  ROUND((0.000398*A45-0.251*LN(A45)+1.11)*B45*電力量料金登録!B3, 0)","v":76231}]
[40,14600,{"$f":"  ROUND((0.000398*A46-0.251*LN(A46)+1.11)*B46*電力量料金登録!B3, 0)","v":75924}]
[41,14965,{"$f":"  ROUND((0.000398*A47-0.251*LN(A47)+1.11)*B47*電力量料金登録!B3, 0)","v":75566}]
[42,15330,{"$f":"  ROUND((0.000398*A48-0.251*LN(A48)+1.11)*B48*電力量料金登録!B3, 0)","v":75157}]

{"sheet":"年間削減清掃点検費用算出および算出図","index":9,"n_rows":21,"n_cols":5,"rows_kept":21,"cut":false,"hidden":true,"merged":[]}
["年間清掃点検費用算出および算出図"]
[]
["貯水槽容量",20,"㎥"]
["清掃費用",{"$f":"  IF(B3<=A11,B11,IF(B3<=A13,B13,IF(B3<=A15,B15,IF(B3<=A17,B17,IF(B3<=A19,B19,IF(B3<=A21,B21))))))","v":80000},"円"]
["点検保守費用",3300,"円"]
["水質検査費用",10500,"円"]
["算出結果",{"$f":"  B4+B5+B6","v":93800},"円/年"]
[]
["貯水槽容量","削減清掃費用","削減清掃点検費用","算出結果","入力貯水槽容量"]
[0.1,60000,{"$f":" B10 + B5 + B6","v":73800},{"$f":" B7","v":93800},{"$f":" B3","v":20}]
[10,60000,{"$f":" B11 + B5 + B6","v":73800},{"$f":" B7","v":93800},{"$f":" B3","v":20}]
[10.1,80000,{"$f":" B12 + B5 + B6","v":93800},{"$f":" B7","v":93800},{"$f":" B3","v":20}]
[20,80000,{"$f":" B13 + B5 + B6","v":93800},{"$f":" B7","v":93800},{"$f":" B3","v":20}]
[20.100000000000001,100000,{"$f":" B14 + B5 + B6","v":113800},{"$f":" B7","v":93800},{"$f":" B3","v":20}]
[50,100000,{"$f":" B15 + B5 + B6","v":113800},{"$f":" B7","v":93800},{"$f":" B3","v":20}]
[50.1,126000,{"$f":" B16 + B5 +B6","v":139800},{"$f":" B7","v":93800},{"$f":" B3","v":20}]
[70,126000,{"$f":" B17 + B5 + B6","v":139800},{"$f":" B7","v":93800},{"$f":" B3","v":20}]
[70.099999999999994,150000,{"$f":" B18 + B5 +B6","v":163800},{"$f":" B7","v":93800},{"$f":" B3","v":20}]
[100,150000,{"$f":" B19 + B5 + B6","v":163800},{"$f":" B7","v":93800},{"$f":" B3","v":20}]
[100.1,240000,{"$f":" B20 + B5 + B6","v":253800},{"$f":" B7","v":93800},{"$f":" B3","v":20}]
[200,240000,{"$f":" B21 + B5 + B6","v":253800},{"$f":" B7","v":93800},{"$f":" B3","v":20}]

{"sheet":"年間削減電気料金算出","index":10,"n_rows":15,"n_cols":3,"rows_kept":15,"cut":false,"hidden":true,"merged":[]}
["年間削減電気料金算出"]
[]
["貯水槽容量",{"$f":"  B5/365","v":2.7397260273972601},"㎥"]
[]
["年間使用水量",1000,"㎥/年"]
[]
["ポンプ＋給水方式","算出結果","算出図作成用シート"]
["インバータ式直圧直結給水方式",{"$f":"  (-0.178*LN(B3)+1.05)*B5*電力量料金登録!B3","v":22635.633521250442},"年間削減電気料金算出図(インバータ→直圧直結)"]
["非インバータ式直圧直結給水方式",{"$f":"  (-0.289*LN(B3)+1.86)*B5*電力量料金登録!B3","v":40786.955548547063},"年間削減電気料金算出図(非インバータ→直圧直結)"]
["高置水槽直圧直結給水方式",{"$f":"  (0.0012*B3+0.261)*B5*電力量料金登録!B3","v":6871.4794520547948},"年間削減電気料金算出図(高置水槽→直圧直結)"]
["型式等不明直圧直結給水方式",{"$f":" (0.000398*B3-0.17*LN(B3)+1.07)*B5*電力量料金登録!B3","v":23393.618654665075},"年間削減電気料金算出図(型式等不明→直圧直結)"]
["インバータ式増圧直結給水方式",{"$f":" (-0.26*LN(B3)+1.09)*B5*電力量料金登録!B3","v":21526.880424298397},"年間削減電気料金算出図(インバータ→増圧直結)"]
["非インバータ式増圧直結給水方式",{"$f":" (-0.37*LN(B3)+1.9)*B5*電力量料金登録!B3","v":39704.406757655401},"年間削減電気料金算出図(非インバータ→増圧直結)"]
["高置水槽増圧直結給水方式",{"$f":"(0.0012*B3-0.0813*LN(B3)+0.303)*B5*電力量料金登録!B3","v":5833.0693693450239},"年間削減電気料金算出図(高置水槽→増圧直結)"]
["型式等不明増圧直結給水方式",{"$f":" (0.000398*B3-0.251*LN(B3)+1.11)*B5*電力量料金登録!B3","v":22311.069863773424},"年間削減電気料金算出図(型式等不明→増圧直結)"]

{"sheet":"削減効果算出資料レイアウト","index":11,"n_rows":52,"n_cols":67,"rows_kept":52,"cut":false,"hidden":true,"merged":[]}
[]
[null,null,null,null,null,null,null,null,null,null,null,null,null,null,null,null,null,null,null,null,null,null,null,null,null,null,null,null,null,null,null,null,null,null,null,null,null,null,null,null,null,null,null,null,null,null,null,null,null,null,null,null,null,null,null,null,null,null,null,null,null,null,null,null,null,"算出条件"]
[]
[null,null,null,null,null,null,null,null,null,null,null,null,null,null,null,null,null,null,null,null,null,null,null,null,null,null,null,null,null,null,null,null,null,null,null,null,null,null,null,null,null,null,null,null,null,null,null,null,null,null,null,null,null,null,null,null,null,null,null,null,null,null,null,null,null,null,"貯水槽容量"]
[]
[]
[null,null,null,null,null,null,null,null,null,null,null,null,null,null,null,null,null,null,null,null,null,null,null,null,null,null,null,null,null,null,null,null,null,null,null,null,null,null,null,null,null,null,null,null,null,null,null,null,null,null,null,null,null,null,null,null,null,null,null,null,null,null,null,null,null,null,"年間使用水量"]
[]
[]
[null,null,null,null,null,null,null,null,null,null,null,null,null,null,null,null,null,null,null,null,null,null,null,null,null,null,null,null,null,null,null,null,null,null,null,null,null,null,null,null,null,null,null,null,null,null,null,null,null,null,null,null,null,null,null,null,null,null,null,null,null,null,null,null,null,null,"現在使用中の揚水ポンプの型式等"]
[]
[]
[null,null,null,null,null,null,null,null,null,null,null,null,null,null,null,null,null,null,null,null,null,null,null,null,null,null,null,null,null,null,null,null,null,null,null,null,null,null,null,null,null,null,null,null,null,null,null,null,null,null,null,null,null,null,null,null,null,null,null,null,null,null,null,null,null,null,"直結切り替え後の給水方式"]
[]
[]
[null,null,null,null,null,null,null,null,null,null,null,null,null,null,null,null,null,null,null,null,null,null,null,null,null,null,null,null,null,null,null,null,null,null,null,null,null,null,null,null,null,null,null,null,null,null,null,null,null,null,null,null,null,null,null,null,null,null,null,null,null,null,null,null,null,null,"工事費の見積り金額"]
[]
[]
[null,null,null,null,null,null,null,null,null,null,null,null,null,null,null,null,null,null,null,null,null,null,null,null,null,null,null,null,null,null,null,null,null,null,null,null,null,null,null,null,null,null,null,null,null,null,null,null,null,null,null,null,null,null,null,null,null,null,null,null,null,null,null,null,null,"※","こちらの算出結果画面外の値は、「確認用」のものですので、"]
[null,null,null,null,null,null,null,null,null,null,null,null,null,null,null,null,null,null,null,null,null,null,null,null,null,null,null,null,null,null,null,null,null,null,null,null,null,null,null,null,null,null,null,null,null,null,null,null,null,null,null,null,null,null,null,null,null,null,null,null,null,null,null,null,null,null,"こちらで算出条件を修正しても、算出結果には反映されません。"]
[null,null,null,null,null,null,null,null,null,null,null,null,null,null,null,null,null,null,null,null,null,null,null,null,null,null,null,null,null,null,null,null,null,null,null,null,null,null,null,null,null,null,null,null,null,null,null,null,null,null,null,null,null,null,null,null,null,null,null,null,null,null,null,null,null,null,"算出条件を修正する場合は、一度画面を閉じて、"]
[null,null,null,null,null,null,null,null,null,null,null,null,null,null,null,null,null,null,null,null,null,null,null,null,null,null,null,null,null,null,null,null,null,null,null,null,null,null,null,null,null,null,null,null,null,null,null,null,null,null,null,null,null,null,null,null,null,null,null,null,null,null,null,null,null,null,"再度システムを起動の上、入力してください。"]
[]
[]
[]
[]
[]
[]
[]
[]
[]
[null,null,null,null,null,null,null,null,null,null,"削減される年間電気料金 （ A )",null,null,null,null,null,null,null,null,null,null,null,null,null,null,null,null,null,null,null,null,null,null,null,null,null,null,null,null,null,null,null,null,"削減される年間清掃点検費用 ( B )"]
[]
[null,null,null,null,null,null,null,null,null,null,null,null,null,null,null,null,null,null,"円／年",null,null,null,null,null,null,null,null,null,null,null,null,null,null,null,null,null,null,null,null,null,null,null,null,null,null,null,null,null,null,null,null,"円／年"]
[]
[]
[]
[]
[]
[null,null,null,null,null,null,null,null,null,null,"削減される費用の合計 ( A + B )",null,null,null,null,null,null,null,null,null,null,null,null,null,null,null,null,null,null,null,null,null,null,null,null,null,null,null,null,null,null,"回収可能年数の目安 "]
[null,null,null,null,null,null,null,null,null,null,null,null,null,null,null,null,null,null,null,null,null,null,null,null,null,null,null,null,null,null,null,null,null,null,null,null,null,null,null,null,null,"( 工事費の見積り金額 ÷ 削減される費用の合計 )"]
[null,null,null,null,null,null,null,null,null,null,null,null,null,null,null,{"$f":"P34+AW34","v":0},null,null,"円／年"]
[null,null,null,null,null,null,null,null,null,null,null,null,null,null,null,null,null,null,null,null,null,null,null,null,null,null,null,null,null,null,null,null,null,null,null,null,null,null,null,null,null,null,null,null,null,null,null,null,null,null,null,"年程度"]
[]
[]
[null,null,null,null,"※１　",null,"削減される年間電気料金（円／年）の算出方法は、年間使用水量が15,000㎥／年までの貯水槽水道を対象としています。"]
[null,null,null,null,null,null,"また、この削減効果は試算値（東京都水道局ホームページを参考)であり、実際とは異なる場合があります。"]
[null,null,null,null,"※２",null,"この算出図は、貯水槽水道方式と直結給水方式（直圧直結・増圧直結）における、年間使用水量に応じた年間電気料金の差額を表したものです。"]
[null,null,null,null,null,null,"算出条件については、東京電力㈱が公表している電力量料金「$円／kWh」を用いて削減効果を算出しております。"]
[null,null,null,null,"※３",null,"削減される年間清掃点検費用（円／年）は、水質検査も含んでいます。また、この削減効果は目安であり、実際とは異なる場合があります。"]
[null,null,null,null,"※４",null,"回収可能年数は、あくまで目安となりますので、実際とは異なる場合があります。"]
[null,null,null,null,null,null,"また、増圧直結給水方式へ切り替えた場合は、増圧ポンプのメンテナンス費用が別途発生します。"]

{"sheet":"電力量料金登録","index":12,"n_rows":3,"n_cols":3,"rows_kept":3,"cut":false,"hidden":true,"merged":[]}
["電力量料金登録"]
[]
["電力量料金",26,"円/kWh"]

{"sheet":"給水方式マスタ","index":13,"n_rows":2,"n_cols":1,"rows_kept":2,"cut":false,"hidden":true,"merged":[]}
["直圧直結給水方式"]
["増圧直結給水方式"]

{"sheet":"ポンプの型式等マスタ","index":14,"n_rows":4,"n_cols":1,"rows_kept":4,"cut":false,"hidden":true,"merged":[]}
["インバータ式"]
["非インバータ式"]
["高置水槽"]
["型式等不明"]